BEGIN:VCALENDAR
VERSION:2.0
PRODID:-//Ponderosa Garden Center - ECPv6.15.9//NONSGML v1.0//EN
CALSCALE:GREGORIAN
METHOD:PUBLISH
X-ORIGINAL-URL:https://ponderosagardencenter.com
X-WR-CALDESC:Events for Ponderosa Garden Center
REFRESH-INTERVAL;VALUE=DURATION:PT1H
X-Robots-Tag:noindex
X-PUBLISHED-TTL:PT1H
BEGIN:VTIMEZONE
TZID:America/New_York
BEGIN:DAYLIGHT
TZOFFSETFROM:-0500
TZOFFSETTO:-0400
TZNAME:EDT
DTSTART:20240310T070000
END:DAYLIGHT
BEGIN:STANDARD
TZOFFSETFROM:-0400
TZOFFSETTO:-0500
TZNAME:EST
DTSTART:20241103T060000
END:STANDARD
BEGIN:DAYLIGHT
TZOFFSETFROM:-0500
TZOFFSETTO:-0400
TZNAME:EDT
DTSTART:20250309T070000
END:DAYLIGHT
BEGIN:STANDARD
TZOFFSETFROM:-0400
TZOFFSETTO:-0500
TZNAME:EST
DTSTART:20251102T060000
END:STANDARD
BEGIN:DAYLIGHT
TZOFFSETFROM:-0500
TZOFFSETTO:-0400
TZNAME:EDT
DTSTART:20260308T070000
END:DAYLIGHT
BEGIN:STANDARD
TZOFFSETFROM:-0400
TZOFFSETTO:-0500
TZNAME:EST
DTSTART:20261101T060000
END:STANDARD
END:VTIMEZONE
BEGIN:VEVENT
DTSTART;TZID=America/New_York:20251206T100000
DTEND;TZID=America/New_York:20251206T120000
DTSTAMP:20260421T062833
CREATED:20250926T191104Z
LAST-MODIFIED:20250926T191104Z
UID:643-1765015200-1765022400@ponderosagardencenter.com
SUMMARY:Holiday Wreath Workshop
DESCRIPTION:Come get in the holiday spirit by decorating a fresh locally made14” wreath with us. Berries\, cones\, décor and more will be available as well as a nice selection of ribbon. Great fun for the whole family. $40.00 each. Limited slots available\, sign up early! 2 Sessions-10am-12pm. and 3pm-5pm.
URL:https://ponderosagardencenter.com/event/holiday-wreath-workshop/
LOCATION:Ponderosa Garden Center\, 4850 State Hwy\, Eastham\, MA\, 02642\, United States
ATTACH;FMTTYPE=image/jpeg:https://ponderosagardencenter.com/wp-content/uploads/2025/09/wreathWorkshop.jpg
END:VEVENT
END:VCALENDAR