BEGIN:VCALENDAR
VERSION:2.0
PRODID:-//Ponderosa Garden Center - ECPv6.15.9//NONSGML v1.0//EN
CALSCALE:GREGORIAN
METHOD:PUBLISH
X-ORIGINAL-URL:https://ponderosagardencenter.com
X-WR-CALDESC:Events for Ponderosa Garden Center
REFRESH-INTERVAL;VALUE=DURATION:PT1H
X-Robots-Tag:noindex
X-PUBLISHED-TTL:PT1H
BEGIN:VTIMEZONE
TZID:America/New_York
BEGIN:DAYLIGHT
TZOFFSETFROM:-0500
TZOFFSETTO:-0400
TZNAME:EDT
DTSTART:20250309T070000
END:DAYLIGHT
BEGIN:STANDARD
TZOFFSETFROM:-0400
TZOFFSETTO:-0500
TZNAME:EST
DTSTART:20251102T060000
END:STANDARD
BEGIN:DAYLIGHT
TZOFFSETFROM:-0500
TZOFFSETTO:-0400
TZNAME:EDT
DTSTART:20260308T070000
END:DAYLIGHT
BEGIN:STANDARD
TZOFFSETFROM:-0400
TZOFFSETTO:-0500
TZNAME:EST
DTSTART:20261101T060000
END:STANDARD
BEGIN:DAYLIGHT
TZOFFSETFROM:-0500
TZOFFSETTO:-0400
TZNAME:EDT
DTSTART:20270314T070000
END:DAYLIGHT
BEGIN:STANDARD
TZOFFSETFROM:-0400
TZOFFSETTO:-0500
TZNAME:EST
DTSTART:20271107T060000
END:STANDARD
END:VTIMEZONE
BEGIN:VEVENT
DTSTART;TZID=America/New_York:20260213T110000
DTEND;TZID=America/New_York:20260213T150000
DTSTAMP:20260423T052044
CREATED:20260207T105212Z
LAST-MODIFIED:20260207T105212Z
UID:966-1770980400-1770994800@ponderosagardencenter.com
SUMMARY:VALENTINE MASON JAR FLORAL ARRANGEMENT
DESCRIPTION:Celebrate Valentine’s Day by creating your very own beautiful floral arrangement in a mason jar! Drop-in any time from February 11th to February 13th from 11 AM to 3 PM for a fun and creative experience. For just $35.00\, you’ll receive all the materials and instructions needed to craft a stunning arrangement that you can take home and cherish. This is the perfect opportunity to express your love and creativity\, whether for a special someone or simply for yourself. Don’t miss out on this delightful hands-on workshop!
URL:https://ponderosagardencenter.com/event/valentine-mason-jar-floral-arrangement/
LOCATION:Ponderosa Garden Center\, 4850 State Hwy\, Eastham\, MA\, 02642\, United States
ATTACH;FMTTYPE=image/jpeg:https://ponderosagardencenter.com/wp-content/uploads/2026/01/pondo-roses.jpg
END:VEVENT
END:VCALENDAR