BEGIN:VCALENDAR
VERSION:2.0
PRODID:-//Ponderosa Garden Center - ECPv6.15.9//NONSGML v1.0//EN
CALSCALE:GREGORIAN
METHOD:PUBLISH
X-WR-CALNAME:Ponderosa Garden Center
X-ORIGINAL-URL:https://ponderosagardencenter.com
X-WR-CALDESC:Events for Ponderosa Garden Center
REFRESH-INTERVAL;VALUE=DURATION:PT1H
X-Robots-Tag:noindex
X-PUBLISHED-TTL:PT1H
BEGIN:VTIMEZONE
TZID:America/New_York
BEGIN:DAYLIGHT
TZOFFSETFROM:-0500
TZOFFSETTO:-0400
TZNAME:EDT
DTSTART:20240310T070000
END:DAYLIGHT
BEGIN:STANDARD
TZOFFSETFROM:-0400
TZOFFSETTO:-0500
TZNAME:EST
DTSTART:20241103T060000
END:STANDARD
BEGIN:DAYLIGHT
TZOFFSETFROM:-0500
TZOFFSETTO:-0400
TZNAME:EDT
DTSTART:20250309T070000
END:DAYLIGHT
BEGIN:STANDARD
TZOFFSETFROM:-0400
TZOFFSETTO:-0500
TZNAME:EST
DTSTART:20251102T060000
END:STANDARD
BEGIN:DAYLIGHT
TZOFFSETFROM:-0500
TZOFFSETTO:-0400
TZNAME:EDT
DTSTART:20260308T070000
END:DAYLIGHT
BEGIN:STANDARD
TZOFFSETFROM:-0400
TZOFFSETTO:-0500
TZNAME:EST
DTSTART:20261101T060000
END:STANDARD
END:VTIMEZONE
BEGIN:VEVENT
DTSTART;TZID=America/New_York:20250802T100000
DTEND;TZID=America/New_York:20250802T120000
DTSTAMP:20260419T143606
CREATED:20250721T144954Z
LAST-MODIFIED:20250721T144954Z
UID:428-1754128800-1754136000@ponderosagardencenter.com
SUMMARY:Moss Wall Art
DESCRIPTION:Come beat the Heat and get creative in our beautiful\, air-conditioned workshop. We will be using preserved moss\, shells\, and other natural materials to create a piece of art you can later hang on the wall. HOT GLUE GUN will be used so will not be appropriate for children under 10 years old without help.  Only 12 spots are available so register soon! $35.00
URL:https://ponderosagardencenter.com/event/moss-wall-art/
LOCATION:Ponderosa Garden Center\, 4850 State Hwy\, Eastham\, MA\, 02642\, United States
ATTACH;FMTTYPE=image/jpeg:https://ponderosagardencenter.com/wp-content/uploads/2025/01/mossart24.jpg
END:VEVENT
BEGIN:VEVENT
DTSTART;TZID=America/New_York:20250809T100000
DTEND;TZID=America/New_York:20250809T120000
DTSTAMP:20260419T143606
CREATED:20250721T145244Z
LAST-MODIFIED:20250721T145244Z
UID:431-1754733600-1754740800@ponderosagardencenter.com
SUMMARY:Driftwood Windchime
DESCRIPTION:Join us in our air-conditioned workshop for a fun\, relaxed craft making a rustic windchime. We will be using a piece of driftwood\, shells\, twine and beads to bring a peaceful sound to your garden. These make great keepsakes from days at the beach so feel free to bring your own findings to add on. $35.00
URL:https://ponderosagardencenter.com/event/driftwood-windchime/
LOCATION:Ponderosa Garden Center\, 4850 State Hwy\, Eastham\, MA\, 02642\, United States
ATTACH;FMTTYPE=image/jpeg:https://ponderosagardencenter.com/wp-content/uploads/2025/02/windchime-scaled.jpg
END:VEVENT
BEGIN:VEVENT
DTSTART;TZID=America/New_York:20250816T100000
DTEND;TZID=America/New_York:20250816T120000
DTSTAMP:20260419T143606
CREATED:20250721T145528Z
LAST-MODIFIED:20250721T145528Z
UID:432-1755338400-1755345600@ponderosagardencenter.com
SUMMARY:Garden Globe
DESCRIPTION:Bring some personalized art into the garden by making a fun garden globe with glass gems\, pennies\, or old costume jewelry. This easy project is suitable for children 8 years old and up.
URL:https://ponderosagardencenter.com/event/garden-globe-2/
LOCATION:Ponderosa Garden Center\, 4850 State Hwy\, Eastham\, MA\, 02642\, United States
ATTACH;FMTTYPE=image/jpeg:https://ponderosagardencenter.com/wp-content/uploads/2025/07/garden-globe.jpg
END:VEVENT
END:VCALENDAR