BEGIN:VCALENDAR
VERSION:2.0
PRODID:-//Ponderosa Garden Center - ECPv6.15.9//NONSGML v1.0//EN
CALSCALE:GREGORIAN
METHOD:PUBLISH
X-ORIGINAL-URL:https://ponderosagardencenter.com
X-WR-CALDESC:Events for Ponderosa Garden Center
REFRESH-INTERVAL;VALUE=DURATION:PT1H
X-Robots-Tag:noindex
X-PUBLISHED-TTL:PT1H
BEGIN:VTIMEZONE
TZID:America/New_York
BEGIN:DAYLIGHT
TZOFFSETFROM:-0500
TZOFFSETTO:-0400
TZNAME:EDT
DTSTART:20240310T070000
END:DAYLIGHT
BEGIN:STANDARD
TZOFFSETFROM:-0400
TZOFFSETTO:-0500
TZNAME:EST
DTSTART:20241103T060000
END:STANDARD
BEGIN:DAYLIGHT
TZOFFSETFROM:-0500
TZOFFSETTO:-0400
TZNAME:EDT
DTSTART:20250309T070000
END:DAYLIGHT
BEGIN:STANDARD
TZOFFSETFROM:-0400
TZOFFSETTO:-0500
TZNAME:EST
DTSTART:20251102T060000
END:STANDARD
BEGIN:DAYLIGHT
TZOFFSETFROM:-0500
TZOFFSETTO:-0400
TZNAME:EDT
DTSTART:20260308T070000
END:DAYLIGHT
BEGIN:STANDARD
TZOFFSETFROM:-0400
TZOFFSETTO:-0500
TZNAME:EST
DTSTART:20261101T060000
END:STANDARD
END:VTIMEZONE
BEGIN:VEVENT
DTSTART;TZID=America/New_York:20251004T100000
DTEND;TZID=America/New_York:20251004T120000
DTSTAMP:20260419T144627
CREATED:20250924T201415Z
LAST-MODIFIED:20250926T095715Z
UID:608-1759572000-1759579200@ponderosagardencenter.com
SUMMARY:Pumpkins with Pressed Flowers.
DESCRIPTION:Decorate a white pumpkin using pressed flowers and modge podge for an alternative to pumpkin carving. It may even last longer! This workshop is suitable for all ages\, so bring the family! $20.00
URL:https://ponderosagardencenter.com/event/pumpkins-with-pressed-flowers/
LOCATION:Ponderosa Garden Center\, 4850 State Hwy\, Eastham\, MA\, 02642\, United States
ATTACH;FMTTYPE=image/jpeg:https://ponderosagardencenter.com/wp-content/uploads/2025/09/pumpkin1.jpg
END:VEVENT
BEGIN:VEVENT
DTSTART;TZID=America/New_York:20251011T100000
DTEND;TZID=America/New_York:20251011T120000
DTSTAMP:20260419T144627
CREATED:20250924T201637Z
LAST-MODIFIED:20250926T095944Z
UID:609-1760176800-1760184000@ponderosagardencenter.com
SUMMARY:Driftwood Wind Chime
DESCRIPTION:Join us in our workshop for a fun\, relaxed craft making a rustic wind chime. We will be using a piece of driftwood\, shells\, twine and beads to bring a peaceful sound to your garden. These make great keepsakes from days at the beach so feel free to bring your own findings to add on as well. $35.00
URL:https://ponderosagardencenter.com/event/driftwood-windchime-2/
LOCATION:Ponderosa Garden Center\, 4850 State Hwy\, Eastham\, MA\, 02642\, United States
ATTACH;FMTTYPE=image/jpeg:https://ponderosagardencenter.com/wp-content/uploads/2025/09/windchime1.jpg
END:VEVENT
BEGIN:VEVENT
DTSTART;TZID=America/New_York:20251025T100000
DTEND;TZID=America/New_York:20251025T120000
DTSTAMP:20260419T144627
CREATED:20250924T202330Z
LAST-MODIFIED:20250926T100242Z
UID:611-1761386400-1761393600@ponderosagardencenter.com
SUMMARY:Grapevine Wreath with Succulents and Air Plants
DESCRIPTION:Bring a bit of the garden inside by making a nature inspired wreath with us. Using moss as a base and adding succulents\, air plants\, shells\, dried flowers and more to create an indoor wreath that will last for many years. We use hot glue so it may not be appropriate for young children. $40.00
URL:https://ponderosagardencenter.com/event/grapevine-wreath-with-succulents-and-air-plants/
LOCATION:Ponderosa Garden Center\, 4850 State Hwy\, Eastham\, MA\, 02642\, United States
ATTACH;FMTTYPE=image/jpeg:https://ponderosagardencenter.com/wp-content/uploads/2025/09/wreath1.jpg
END:VEVENT
END:VCALENDAR